BEGIN:VCALENDAR
VERSION:2.0
PRODID:-//Genius - ECPv6.15.20//NONSGML v1.0//EN
CALSCALE:GREGORIAN
METHOD:PUBLISH
X-ORIGINAL-URL:https://geniusxadrez.com.br
X-WR-CALDESC:Eventos para Genius
REFRESH-INTERVAL;VALUE=DURATION:PT1H
X-Robots-Tag:noindex
X-PUBLISHED-TTL:PT1H
BEGIN:VTIMEZONE
TZID:America/Sao_Paulo
BEGIN:STANDARD
TZOFFSETFROM:-0300
TZOFFSETTO:-0300
TZNAME:-03
DTSTART:20250101T000000
END:STANDARD
END:VTIMEZONE
BEGIN:VEVENT
DTSTART;VALUE=DATE:20260420
DTEND;VALUE=DATE:20260422
DTSTAMP:20260421T072640
CREATED:20250119T142819Z
LAST-MODIFIED:20251222T153920Z
UID:30653-1776643200-1776815999@geniusxadrez.com.br
SUMMARY:Recesso Feriado de Tiradentes
DESCRIPTION:
URL:https://geniusxadrez.com.br/event/feriado-de-tiradentes/
CATEGORIES:RECESSO
END:VEVENT
END:VCALENDAR