BEGIN:VCALENDAR
VERSION:2.0
PRODID:-//Genius - ECPv6.15.20//NONSGML v1.0//EN
CALSCALE:GREGORIAN
METHOD:PUBLISH
X-WR-CALNAME:Genius
X-ORIGINAL-URL:https://geniusxadrez.com.br
X-WR-CALDESC:Eventos para Genius
REFRESH-INTERVAL;VALUE=DURATION:PT1H
X-Robots-Tag:noindex
X-PUBLISHED-TTL:PT1H
BEGIN:VTIMEZONE
TZID:America/Sao_Paulo
BEGIN:STANDARD
TZOFFSETFROM:-0300
TZOFFSETTO:-0300
TZNAME:-03
DTSTART:20250101T000000
END:STANDARD
END:VTIMEZONE
BEGIN:VEVENT
DTSTART;TZID=America/Sao_Paulo:20261012T080000
DTEND;TZID=America/Sao_Paulo:20261012T170000
DTSTAMP:20260421T172248
CREATED:20251222T154923Z
LAST-MODIFIED:20251222T154923Z
UID:32095-1791792000-1791824400@geniusxadrez.com.br
SUMMARY:Feriado de Nossa Senhora Aparecida
DESCRIPTION:
URL:https://geniusxadrez.com.br/event/feriado-de-nossa-senhora-aparecida/
CATEGORIES:RECESSO
END:VEVENT
END:VCALENDAR