BEGIN:VCALENDAR
VERSION:2.0
PRODID:-//Genius - ECPv6.15.20//NONSGML v1.0//EN
CALSCALE:GREGORIAN
METHOD:PUBLISH
X-WR-CALNAME:Genius
X-ORIGINAL-URL:https://geniusxadrez.com.br
X-WR-CALDESC:Eventos para Genius
REFRESH-INTERVAL;VALUE=DURATION:PT1H
X-Robots-Tag:noindex
X-PUBLISHED-TTL:PT1H
BEGIN:VTIMEZONE
TZID:America/Sao_Paulo
BEGIN:STANDARD
TZOFFSETFROM:-0300
TZOFFSETTO:-0300
TZNAME:-03
DTSTART:20250101T000000
END:STANDARD
END:VTIMEZONE
BEGIN:VEVENT
DTSTART;VALUE=DATE:20260718
DTEND;VALUE=DATE:20260803
DTSTAMP:20260421T135557
CREATED:20250119T143133Z
LAST-MODIFIED:20251222T160530Z
UID:30659-1784332800-1785715199@geniusxadrez.com.br
SUMMARY:Recesso de Meio de Ano
DESCRIPTION:
URL:https://geniusxadrez.com.br/event/recesso-de-meio-de-ano/
CATEGORIES:RECESSO
END:VEVENT
END:VCALENDAR