BEGIN:VCALENDAR
VERSION:2.0
PRODID:-//Genius - ECPv6.15.20//NONSGML v1.0//EN
CALSCALE:GREGORIAN
METHOD:PUBLISH
X-WR-CALNAME:Genius
X-ORIGINAL-URL:https://geniusxadrez.com.br
X-WR-CALDESC:Eventos para Genius
REFRESH-INTERVAL;VALUE=DURATION:PT1H
X-Robots-Tag:noindex
X-PUBLISHED-TTL:PT1H
BEGIN:VTIMEZONE
TZID:America/Sao_Paulo
BEGIN:STANDARD
TZOFFSETFROM:-0300
TZOFFSETTO:-0300
TZNAME:-03
DTSTART:20250101T000000
END:STANDARD
END:VTIMEZONE
BEGIN:VEVENT
DTSTART;VALUE=DATE:20260319
DTEND;VALUE=DATE:20260321
DTSTAMP:20260421T083657
CREATED:20250118T164814Z
LAST-MODIFIED:20251222T153603Z
UID:30649-1773878400-1774051199@geniusxadrez.com.br
SUMMARY:Recesso do Aniversário de Itajubá
DESCRIPTION:
URL:https://geniusxadrez.com.br/event/recesso-do-aniversario-de-itajuba/
CATEGORIES:RECESSO
END:VEVENT
END:VCALENDAR